BEGIN:VCALENDAR
VERSION:2.0
X-WR-CALNAME:Veranstaltungen
METHOD:PUBLISH
BEGIN:VEVENT
CLASS:PUBLIC
CREATED:20260424T114852Z
DESCRIPTION:nullDiekirch/ed-8450053
DTEND;TZID="Europe/Berlin":20260715T000000
DTSTAMP:20260424T114852Z
DTSTART;TZID="Europe/Berlin":20260714T000000
LAST-MODIFIED:20260424T114852Z
LOCATION:Diekirch Esplanade L-9217 DIEKIRCH
PRIORITY:5
SEQUENCE:0
SUMMARY;LANGUAGE=de:Al Dikkrich
TRANSP:OPAQUE
UID:20260424T114852Z-uidGen@cc5241d592a4
X-MICROSOFT-CDO-BUSYSTATUS:BUSY
X-MICROSOFT-CDO-IMPORTANCE:1
X-MS-OLK-AUTOFILLLOCATION:FALSE
BEGIN:VALARM
TRIGGER:-PT1440M
ACTION:DISPLAY
DESCRIPTION:Reminder
END:VALARM
END:VEVENT
END:VCALENDAR

