BEGIN:VCALENDAR
VERSION:2.0
X-WR-CALNAME:Veranstaltungen
METHOD:PUBLISH
BEGIN:VEVENT
CLASS:PUBLIC
CREATED:20260421T094247Z
DESCRIPTION:nullLuxembourg for Tourism /ed-9062141
DTEND;TZID="Europe/Berlin":20270101T000000
DTSTAMP:20260421T094247Z
DTSTART;TZID="Europe/Berlin":20261231T000000
LAST-MODIFIED:20260421T094247Z
LOCATION:Luxembourg for Tourism rue Antoine de Saint Exupéry 6 L-1432 Luxembourg
PRIORITY:5
SEQUENCE:0
SUMMARY;LANGUAGE=de:Basisschulung: Korrekte Pflege in der Content- & Service Platform
TRANSP:OPAQUE
UID:20260421T094247Z-uidGen@95f8aa98cd43
X-MICROSOFT-CDO-BUSYSTATUS:BUSY
X-MICROSOFT-CDO-IMPORTANCE:1
X-MS-OLK-AUTOFILLLOCATION:FALSE
BEGIN:VALARM
TRIGGER:-PT1440M
ACTION:DISPLAY
DESCRIPTION:Reminder
END:VALARM
END:VEVENT
END:VCALENDAR

