BEGIN:VCALENDAR
VERSION:2.0
X-WR-CALNAME:Veranstaltungen
METHOD:PUBLISH
BEGIN:VEVENT
CLASS:PUBLIC
CREATED:20260421T133157Z
DESCRIPTION:nullClervaux/ed-9520826
DTEND;TZID="Europe/Berlin":20260607T173000
DTSTAMP:20260421T133157Z
DTSTART;TZID="Europe/Berlin":20260607T160000
LAST-MODIFIED:20260421T133157Z
LOCATION:Cube 521 Driicht 1 L-9764 Marnach
PRIORITY:5
SEQUENCE:0
SUMMARY;LANGUAGE=de:Lotta zieht um
TRANSP:OPAQUE
UID:20260421T133157Z-uidGen@cc5241d592a4
X-MICROSOFT-CDO-BUSYSTATUS:BUSY
X-MICROSOFT-CDO-IMPORTANCE:1
X-MS-OLK-AUTOFILLLOCATION:FALSE
BEGIN:VALARM
TRIGGER:-PT1440M
ACTION:DISPLAY
DESCRIPTION:Reminder
END:VALARM
END:VEVENT
END:VCALENDAR

