BEGIN:VCALENDAR
VERSION:2.0
X-WR-CALNAME:Veranstaltungen
METHOD:PUBLISH
BEGIN:VEVENT
CLASS:PUBLIC
CREATED:20260422T062313Z
DESCRIPTION:nullTroisvierges/ed-9524987
DTEND;TZID="Europe/Berlin":20260924T213000
DTSTAMP:20260422T062313Z
DTSTART;TZID="Europe/Berlin":20260924T183000
LAST-MODIFIED:20260422T062313Z
LOCATION:Clervaux, Kiischpelt, Troisvierges, Weiswampach, Wincrange Rue de la Gare 24 L-9906
PRIORITY:5
SEQUENCE:0
SUMMARY;LANGUAGE=de:Romantisches Picknick unter den Sternen
TRANSP:OPAQUE
UID:20260422T062313Z-uidGen@cc5241d592a4
X-MICROSOFT-CDO-BUSYSTATUS:BUSY
X-MICROSOFT-CDO-IMPORTANCE:1
X-MS-OLK-AUTOFILLLOCATION:FALSE
BEGIN:VALARM
TRIGGER:-PT1440M
ACTION:DISPLAY
DESCRIPTION:Reminder
END:VALARM
END:VEVENT
END:VCALENDAR

