BEGIN:VCALENDAR
VERSION:2.0
X-WR-CALNAME:Veranstaltungen
METHOD:PUBLISH
BEGIN:VEVENT
CLASS:PUBLIC
CREATED:20260422T095447Z
DESCRIPTION:nullBoulaide/ed-9525144
DTEND;TZID="Europe/Berlin":20261226T220000
DTSTAMP:20260422T095447Z
DTSTART;TZID="Europe/Berlin":20261226T190000
LAST-MODIFIED:20260422T095447Z
LOCATION:Place de l'Eglise, Surré PLACE DE L'EGLISE L-9687 SURRE
PRIORITY:5
SEQUENCE:0
SUMMARY;LANGUAGE=de:Nachtwanderung
TRANSP:OPAQUE
UID:20260422T095447Z-uidGen@cc5241d592a4
X-MICROSOFT-CDO-BUSYSTATUS:BUSY
X-MICROSOFT-CDO-IMPORTANCE:1
X-MS-OLK-AUTOFILLLOCATION:FALSE
BEGIN:VALARM
TRIGGER:-PT1440M
ACTION:DISPLAY
DESCRIPTION:Reminder
END:VALARM
END:VEVENT
END:VCALENDAR

