BEGIN:VCALENDAR
VERSION:2.0
X-WR-CALNAME:Veranstaltungen
METHOD:PUBLISH
BEGIN:VEVENT
CLASS:PUBLIC
CREATED:20260422T094032Z
DESCRIPTION:nullClervaux/ed-9525165
DTEND;TZID="Europe/Berlin":20260622T234500
DTSTAMP:20260422T094032Z
DTSTART;TZID="Europe/Berlin":20260622T200000
LAST-MODIFIED:20260422T094032Z
LOCATION:Place de marché Clervaux Place du Marché L-9701 CLERVAUX
PRIORITY:5
SEQUENCE:0
SUMMARY;LANGUAGE=de:Öffentliche Feier zum Nationalfeiertag 
TRANSP:OPAQUE
UID:20260422T094032Z-uidGen@cc5241d592a4
X-MICROSOFT-CDO-BUSYSTATUS:BUSY
X-MICROSOFT-CDO-IMPORTANCE:1
X-MS-OLK-AUTOFILLLOCATION:FALSE
BEGIN:VALARM
TRIGGER:-PT1440M
ACTION:DISPLAY
DESCRIPTION:Reminder
END:VALARM
END:VEVENT
END:VCALENDAR

