BEGIN:VCALENDAR
VERSION:2.0
X-WR-CALNAME:Veranstaltungen
METHOD:PUBLISH
BEGIN:VEVENT
CLASS:PUBLIC
CREATED:20260422T112700Z
DESCRIPTION:nullErpeldange-sur-Sûre/ed-9525474
DTEND;TZID="Europe/Berlin":20260719T164500
DTSTAMP:20260422T112700Z
DTSTART;TZID="Europe/Berlin":20260719T160000
LAST-MODIFIED:20260422T112700Z
LOCATION:Eglise Erpeldange-sur-Sûre rue Michel Kremer 3 L-9147 Diekirch
PRIORITY:5
SEQUENCE:0
SUMMARY;LANGUAGE=de:Orgelkonzert J.S. Bach
TRANSP:OPAQUE
UID:20260422T112700Z-uidGen@cc5241d592a4
X-MICROSOFT-CDO-BUSYSTATUS:BUSY
X-MICROSOFT-CDO-IMPORTANCE:1
X-MS-OLK-AUTOFILLLOCATION:FALSE
BEGIN:VALARM
TRIGGER:-PT1440M
ACTION:DISPLAY
DESCRIPTION:Reminder
END:VALARM
END:VEVENT
END:VCALENDAR

