BEGIN:VCALENDAR
VERSION:2.0
X-WR-CALNAME:Veranstaltungen
METHOD:PUBLISH
BEGIN:VEVENT
CLASS:PUBLIC
CREATED:20260422T072714Z
DESCRIPTION:nullClervaux/ed-9527706
DTEND;TZID="Europe/Berlin":20260423T150000
DTSTAMP:20260422T072714Z
DTSTART;TZID="Europe/Berlin":20260423T120000
LAST-MODIFIED:20260422T072714Z
LOCATION:Restaurant "Les Ecuries du Parc" rue du Parc 4 L-9708 CLERVAUX
PRIORITY:5
SEQUENCE:0
SUMMARY;LANGUAGE=de:Gemeinsamer Mittagstisch
TRANSP:OPAQUE
UID:20260422T072714Z-uidGen@cc5241d592a4
X-MICROSOFT-CDO-BUSYSTATUS:BUSY
X-MICROSOFT-CDO-IMPORTANCE:1
X-MS-OLK-AUTOFILLLOCATION:FALSE
BEGIN:VALARM
TRIGGER:-PT1440M
ACTION:DISPLAY
DESCRIPTION:Reminder
END:VALARM
END:VEVENT
END:VCALENDAR

