BEGIN:VCALENDAR
VERSION:2.0
X-WR-CALNAME:Veranstaltungen
METHOD:PUBLISH
BEGIN:VEVENT
CLASS:PUBLIC
CREATED:20260425T204106Z
DESCRIPTION:nullTroisvierges/ed-9545938
DTEND;TZID="Europe/Berlin":20260823T130000
DTSTAMP:20260425T204106Z
DTSTART;TZID="Europe/Berlin":20260823T100000
LAST-MODIFIED:20260425T204106Z
LOCATION:Gare Troisvierges  rue de la Gare L-9906 TROISVIERGES
PRIORITY:5
SEQUENCE:0
SUMMARY;LANGUAGE=de:GEFÜHRTE WANDERUNGEN AUF DEM FLUCHTHELFERWEG IN TROISVIERGES
TRANSP:OPAQUE
UID:20260425T204106Z-uidGen@cc5241d592a4
X-MICROSOFT-CDO-BUSYSTATUS:BUSY
X-MICROSOFT-CDO-IMPORTANCE:1
X-MS-OLK-AUTOFILLLOCATION:FALSE
BEGIN:VALARM
TRIGGER:-PT1440M
ACTION:DISPLAY
DESCRIPTION:Reminder
END:VALARM
END:VEVENT
END:VCALENDAR

